BEGIN:VCALENDAR
VERSION:2.0
PRODID:-//Alberta Business Grants - ECPv6.15.20//NONSGML v1.0//EN
CALSCALE:GREGORIAN
METHOD:PUBLISH
X-ORIGINAL-URL:https://albertabusinessgrants.ca
X-WR-CALDESC:Events for Alberta Business Grants
REFRESH-INTERVAL;VALUE=DURATION:PT1H
X-Robots-Tag:noindex
X-PUBLISHED-TTL:PT1H
BEGIN:VTIMEZONE
TZID:America/Edmonton
BEGIN:DAYLIGHT
TZOFFSETFROM:-0700
TZOFFSETTO:-0600
TZNAME:MDT
DTSTART:20250309T090000
END:DAYLIGHT
BEGIN:STANDARD
TZOFFSETFROM:-0600
TZOFFSETTO:-0700
TZNAME:MST
DTSTART:20251102T080000
END:STANDARD
BEGIN:DAYLIGHT
TZOFFSETFROM:-0700
TZOFFSETTO:-0600
TZNAME:MDT
DTSTART:20260308T090000
END:DAYLIGHT
BEGIN:STANDARD
TZOFFSETFROM:-0600
TZOFFSETTO:-0700
TZNAME:MST
DTSTART:20261101T080000
END:STANDARD
BEGIN:DAYLIGHT
TZOFFSETFROM:-0700
TZOFFSETTO:-0600
TZNAME:MDT
DTSTART:20270314T090000
END:DAYLIGHT
BEGIN:STANDARD
TZOFFSETFROM:-0600
TZOFFSETTO:-0700
TZNAME:MST
DTSTART:20271107T080000
END:STANDARD
END:VTIMEZONE
BEGIN:VEVENT
DTSTART;TZID=America/Edmonton:20260428T100000
DTEND;TZID=America/Edmonton:20260428T110000
DTSTAMP:20260424T072531
CREATED:20260302T132512Z
LAST-MODIFIED:20260309T131221Z
UID:37698-1777370400-1777374000@albertabusinessgrants.ca
SUMMARY:Grant Gazette Pro - Special Event - April 2026 Networking Hour
DESCRIPTION:In addition to tracking grant deadlines\, I want to help our Pro members connect and collaborate. \nFor the first half of this session\, I’ll be interviewing a guest expert about their firsthand grant experience. \nMelanie Dussaye and the remarkable story behind her Zayed Sustainability Prize win (transparency: she is brilliant and submitted the grant before the course began). \nFollowing the interview\, we will open the “floor” for an interactive Q&A session. If you are interested in securing grants\, you won’t want to miss this! \nPlease come prepared to meet your colleagues. \nTo get the most out of our networking and discussion\, we strongly recommend keeping your camera on during the Q&A. \nNot a Pro Member yet? \nJoin the community here: https://albertabusinessgrants.ca/grant-gazette/ \nRegistration Here: \nGrant Gazette Pro Membership RequiredMore Grants | New Grants | Recent UpdatesUnlock or Sign InAlready a member? Log in here
URL:https://albertabusinessgrants.ca/event/grant-gazette-pro-special-event-networking-hour-april/
END:VEVENT
END:VCALENDAR